BEGIN:VCALENDAR
VERSION:2.0
PRODID:Events Booking
BEGIN:VEVENT
UID:69e5884a7f440
SUMMARY:Das Museum ist geöffnet
DESCRIPTION:
DTSTART:20260517T120000Z
DTEND:20260517T150000Z
DTSTAMP:20260209T132425Z
ORGANIZER;CN=IM FELD Reigoldswil:MAILTO:kontakt@feldreigoldswil.ch
END:VEVENT
END:VCALENDAR