BEGIN:VCALENDAR
VERSION:2.0
PRODID:Events Booking
BEGIN:VEVENT
UID:69e589921cfd3
SUMMARY:DUO FLORIAN GASS / AUGUSTIN MARTZ
DESCRIPTION:Volksmusik aus der Schweiz und aus Skandinavien
DTSTART:20260510T150000Z
DTEND:20260509T220000Z
DTSTAMP:20251212T130510Z
ORGANIZER;CN=IM FELD Reigoldswil:MAILTO:kontakt@feldreigoldswil.ch
END:VEVENT
END:VCALENDAR